Workbook

Sheet 명시이월사업조서표지
A4: 명시이월사업조서

Sheet 예산총칙
A1: 예 산 총 칙
A2: 제1조 ( 총 칙 ) 2019년도 제1회 청소년수련관의 추가경정 예산은 다음과 같이 정한다.
A3: 제2조 (예산규모) 2019년도 제1회 청소년수련관의 추가경정 예산 세입 및 세출은 다음과 같이 정한다.
F4: (단위 : 천원)
A5: 세 입 | D5: 세 출
A6: 과 목 | C6: 금액(천원) | D6: 과 목 | F6: 금액(천원)
A7: 수 입 합 계 | C7: =C8+C13 -> 3986822 | D7: 지 출 합 계 | F7: =F8+F13 -> 3986822
A8: 운영사업수익 | C8: =C9+C10 -> 3763283 | D8: 운영사업비용 | F8: =F9+F10+F12 -> 3632818
B9: 영업수익 | C9: 2656793 | E9: 영업비용 | F9: 3254656
B10: 영업외수익 | C10: 1106490 | E10: 영업외비용 | F10: 378162
B11: 특별이익 | C11: 0 | E11: 특별손실 | F11: 0
E12: 예비비 | F12: 0
A13: 자본적수익 | C13: =C14 -> 223539 | D13: 자본적지출 | F13: =F14+F15+F16+F17 -> 354004
B14: 유동부채수익 | C14: 223539 | E14: 고정자산 | F14: 195659
E15: 투자자산 | F15: 4412
E16: 유동부채 | F16: 153933
E17: 예비비 | F17: 0
A19: 제3조 (세입세출예산) 2019년도 제1회 청소년수련관의 세입세출예산의 명세는 별첨 '2019 제1회 추가경정예산'과 같다.
A20: 제4조 (채무부담행위) 2019년도 제1회 추가경정 채무부담행위는 해당사항 없다.
A21: 제5조 (차입금) 2019년도 제1회 추가경정예산 차입금 한도액은 119,604천원으로 정한다.
A22: 제6조 (명시이월사업) 2019년도 제1회 추가경정 명시이월사업은 해당사항 없다.
A23: 제7조 (예산전용) 관장은 예산집행상 불가피한 경우 예산을 전용할 수 있다. 단, 항 이상의 예산전용은 시장의 승인을 받아야 한다.
A24: 제8조 (시보조금) 청소년수련관운영을 위하여 구리시로 부터 보조받는 금액은 다음과 같다.
A25: 1. 운영보조금 ---------------------------------------- 700,000천원
A26: 2. 청소년지도사 배치지원 ---------------------------------- 25,080천원
A27: 제9조 (예비비) 2019년도 제1회 추가경정 예비비는 0원으로 한다.

Sheet 예산총괄표
A1: 2019년도 제1회 추가경정 예산총괄표
A2: [본예산+제1회추경예산] | G2: (단위 : 천원)
A3: 사 업 예 산 | C3: 자 본 예 산 | E3: 자 금 운 영 | G3: 비 고
A4: 수 입 계(A) | B4: =B5+B6 -> 3763283 | C4: 수 입 계(A') | D4: =D8 -> 223539 | E4: 수 입 계(A") | F4: =B4+D4 -> 3986822
A5: 영업수익 | B5: 2656793 | E5: 영업수익 | F5: =B5 -> 2656793
A6: 영업외수익 | B6: 1106490 | E6: 영업외수익 | F6: =B6 -> 1106490
A7: 특별이익 | B7: 0 | E7: 특별이익 | F7: 0
C8: 유동부채수익 | D8: 223539 | E8: 유동부채수익 | F8: =D8 -> 223539
A9: 지 출 계(B) | B9: =SUM(B10:B16) -> 3632818 | C9: 지 출 계(B') | D9: =SUM(D10:D16) -> 354004 | E9: 지 출 계(B") | F9: =SUM(F10:F16) -> 3986822
A10: 영업비용 | B10: 3254656 | E10: 영업비용 | F10: =B10 -> 3254656
A11: 영업외비용 | B11: 378162 | E11: 영업외비용 | F11: =B11 -> 378162
A12: 특별손실 | B12: 0 | E12: 특별손실 | F12: 0
C13: 고정자산 | D13: 195659 | E13: 고정자산 | F13: =D13 -> 195659
C14: 투자자산 | D14: 4412 | E14: 투자자산 | F14: =D14 -> 4412
C15: 유동부채상환금 | D15: 153933 | E15: 유동부채상환금 | F15: =D15 -> 153933
A16: 예비비 | B16: 0 | C16: 예비비 | D16: 0 | E16: 예비비 | F16: =B16+D16 -> 0

Sheet 세입총괄표
A1: 2019년 제1회 추가경정 세입 예산 총괄
A2: [본예산+제1회추경예산] | F2: (단위 : 천원) | V2: (단위:천원)
A3: 예 산 과 목 | D3: 예산액 | E3: 기정액 | F3: 증ㆍ감(△) | G3: 산 출 기 초
A4: 장 | B4: 관 | C4: 항 | D4: 제1회추경예산 | E4: 본예산
A5: 합 계 | D5: =D6+D18 -> 3986822 | E5: =E6+E18 -> 3818609 | F5: =F6+F18 -> 168213
A6: 100 운영사업수익 | D6: =D7+D13 -> 3763283 | E6: =E7+E13 -> 3599120 | F6: =D6-E6 -> 164163
B7: 110 영업수익 | D7: =SUM(D8:D12) -> 2656793 | E7: =SUM(E8:E12) -> 2562258 | F7: =SUM(F8:F12) -> 94535
C8: 111 시설사용료 수익 | D8: 54781 | E8: 54781 | F8: =D8-E8 -> 0
C9: 112 사업수익 | D9: 2394165 | E9: 2365554 | F9: =D9-E9 -> 28611
C10: 113 임대수익 | D10: 89505 | E10: 54640 | F10: =D10-E10 -> 34865
C11: 114 기타사업수익 | D11: 50800 | E11: 45244 | F11: =D11-E11 -> 5556
C12: 115 지난연도수입(미수금) | D12: 67542 | E12: 42039 | F12: =D12-E12 -> 25503
B13: 120 영업외수익 | D13: =SUM(D14:D17) -> 1106490 | E13: =SUM(E14:E17) -> 1036862 | F13: =SUM(F14:F17) -> 69628
C14: 121 이월금수익 | D14: 62233 | E14: 0 | F14: =D14-E14 -> 62233
C15: 122 이자수익 | D15: 540 | E15: 540 | F15: =D15-E15 -> 0
C16: 125 보조금수익 | D16: 725080 | E16: 725080 | F16: =D16-E16 -> 0
C17: 128 목적사업수익 | D17: 318637 | E17: 311242 | F17: =D17-E17 -> 7395
A18: 300 자본적수익 | D18: =D19 -> 223539 | E18: =E19 -> 219489 | F18: =F19 -> 4050 | G18: =G19 -> 0 | H18: =H19 -> 0 | I18: =I19 -> 0 | J18: =J19 -> 0 | K18: =K19 -> 0 | ... V18: =V19 -> 0
B19: 310 유동부채수입 | D19: =SUM(D20:D21) -> 223539 | E19: =SUM(E20:E21) -> 219489 | F19: =SUM(F20:F21) -> 4050
C20: 311 보증금수입 | D20: 11000 | E20: 11000 | F20: =D20-E20 -> 0
C21: 312 부가세 예수금 | D21: 212539 | E21: 208489 | F21: =D21-E21 -> 4050

Sheet 세출총괄표
A1: 2019년 제1회 추가경정 세출 예산총괄
A2: [본예산+제1회추경예산] | F2: (단위 : 천원) | H2: =#REF!-#REF! -> #REF! | U2: (단위:천원)
A3: 예 산 과 목 | D3: 예산액 | E3: 기정액 | F3: 증ㆍ감(△) | G3: 산 출 기 초 | V3: 예산설명서 | X3: 산 출 기 초 | AM3: 산 출 기 초
A4: 장 | B4: 관 | C4: 항 | D4: 제1회추경예산 | E4: 본예산
A5: 합 계 | D5: =D6+D15 -> 3986822 | E5: =E6+E15 -> 3818609 | F5: =F6+F15 -> 168213
A6: 200 운영사업비용 | D6: =D7+D10+D13 -> 3632818 | E6: =E7+E10+E13 -> 3479990 | F6: =F7+F10+F13 -> 152828
B7: 210 영업비용 | D7: =SUM(D8:D9) -> 3254656 | E7: =SUM(E8:E9) -> 3101868 | F7: =D7-E7 -> 152788
C8: 211 인력운영비 | D8: 1456732 | E8: 1510224 | F8: =D8-E8 -> -53492
C9: 212 운영경비 | D9: 1797924 | E9: 1591644 | F9: =D9-E9 -> 206280
B10: 220 영업외비용 | D10: =SUM(D11:D12) -> 378162 | E10: =SUM(E11:E12) -> 378122 | F10: =D10-E10 -> 40
C11: 215 목적사업비 | D11: 374662 | E11: 375064 | F11: =D11-E11 -> -402
C12: 221 이전경비 | D12: 3500 | E12: 3058 | F12: =D12-E12 -> 442
B13: 810예비비 | D13: =D14 -> 0 | E13: =E14 -> 0 | F13: =D13-E13 -> 0
C14: 811예비비 | D14: 0 | E14: 0 | F14: =D14-E14 -> 0
A15: 300 자본적지출 | D15: =D16+D19+D21+D23 -> 354004 | E15: =E16+E19+E21+E23 -> 338619 | F15: =F16+F19+F21+F23 -> 15385
B16: 310 고정자산 | D16: =SUM(D17:D18) -> 195659 | E16: =SUM(E17:E18) -> 207619 | F16: =D16-E16 -> -11960
C17: 313 시설,기계 | D17: 4345 | E17: 0 | F17: =D17-E17 -> 4345
C18: 317 집기비품 | D18: 191314 | E18: 207619 | F18: =D18-E18 -> -16305
B19: 320 투자자산 | D19: =D20 -> 4412 | E19: =E20 -> 0 | F19: =D19-E19 -> 4412
C20: 321 기타투자자산 | D20: 4412 | E20: 0 | F20: =D20-E20 -> 4412
B21: 370 유동부채 | D21: =D22 -> 153933 | E21: =E22 -> 131000 | F21: =D21-E21 -> 22933
C22: 371 유동부채상환금 | D22: 153933 | E22: 131000 | F22: =D22-E22 -> 22933
B23: 810예비비 | D23: =D24 -> 0 | E23: =E24 -> 0 | F23: =D23-E23 -> 0
C24: 811예비비 | D24: 0 | E24: 0 | F24: =D24-E24 -> 0

Sheet 세입
A1: 2019년 제1차 추가경정 세입 예산(안)
H2: (단위:천원) | X2: (단위:원)
A3: 예 산 과 목 | F3: 예산액 (1회추경) | G3: 기정예산 (당초) | H3: 증ㆍ감(△) | I3: 산 출 기 초
A4: 장 | B4: 관 | C4: 항 | D4: 목 | E4: 세 목
A5: 합 계 | F5: =F6+F255 -> 3986822 | G5: =G6+G255 -> 3818609 | H5: =H6+H255 -> 168213 | Y5: =Y6+Y255 -> 3986822000
A6: 100 운영사업수익 | F6: =F7+F194 -> 3763283 | G6: =G7+G194 -> 3599120 | H6: =H7+H194 -> 164163.04 | Y6: =Y7+Y194 -> 3763283038
B7: 110 영업수익 | F7: =F8+F18+F163+F173+F188 -> 2656793 | G7: =G8+G18+G163+G173+G188 -> 2562258 | H7: =H8+H18+H163+H173+H188 -> 94534.992 | Y7: =Y8+Y18+Y163+Y173+Y188 -> 2656792992
C8: 111 시설사용료 수익 | F8: =F9 -> 54781.2 | G8: =G9 -> 54781 | H8: =H9 -> 0.2 | Y8: =X10 -> 54781200
D9: 101 사용료 수익 | F9: =F10 -> 54781.2 | G9: =G10 -> 54781 | H9: =H10 -> 0.2
E10: 01 대관료수익 | F10: =X10/1000 -> 54781.2 | G10: 54781 | H10: =F10-G10 -> 0.2 | I10: 01 대관료 | X10: =X11+X17 -> 54781200
I11: ㅇ | J11: 공연장 | X11: =SUM(X12:X16) -> 51181200
J12: 오전 | L12: 72720 | M12: 원 | N12: ⅹ | O12: 12 | P12: 회 | Q12: ⅹ | R12: 12 | S12: 월 | W12: = | X12: =L12*O12*R12 -> 10471680
J13: 오후 | L13: 81810 | M13: 원 | N13: ⅹ | O13: 10 | P13: 회 | Q13: ⅹ | R13: 12 | S13: 월 | W13: = | X13: =L13*O13*R13 -> 9817200
J14: 야간 | L14: 90000 | M14: 원 | N14: ⅹ | O14: 8 | P14: 회 | Q14: ⅹ | R14: 12 | S14: 월 | W14: = | X14: =L14*O14*R14 -> 8640000
J15: 추가시간요금 | L15: 18180 | M15: 원 | N15: ⅹ | O15: 22 | P15: 회 | Q15: ⅹ | R15: 12 | S15: 월 | W15: = | X15: =L15*O15*R15 -> 4799520
J16: 조명 및 기자재 요금 | L16: 36360 | M16: 원 | N16: ⅹ | O16: 40 | P16: 회 | Q16: ⅹ | R16: 12 | S16: 월 | W16: = | X16: =L16*O16*R16 -> 17452800
I17: ㅇ | J17: 각종교실 | L17: 15000 | M17: 원 | N17: ⅹ | O17: 20 | P17: 회 | Q17: ⅹ | R17: 12 | S17: 월 | W17: = | X17: =L17*O17*R17 -> 3600000
C18: 112 사업수익 | F18: =F19+F50+F101 -> 2394166 | G18: =G19+G50+G101 -> 2365554 | H18: =H19+H50+H101 -> 28611.966 | Y18: =Y19+Y50+Y101 -> 2394165966
D19: 201 수영장 운영수익 | F19: =F20+F44 -> 1266834.1 | G19: =G20+G44 -> 1250116 | H19: =H20+H44 -> 16718.126 | Y19: =X20+X44 -> 1266834126
E20: 01 수영회원 | F20: =X20*1/1000 -> 1226994.1 | G20: 1210276 | H20: =F20-G20 -> 16718.126 | I20: 01 수영회원 (강습료포함) | X20: =SUM(X21,X38) -> 1226994126
I21: [본예산] | X21: =SUM(X22:X37) -> 1210275888
I22: ㅇ | J22: 새벽 및 저녁수영교실(성인) | L22: 60000 | M22: 원 | N22: ⅹ | O22: 117 | P22: 명 | Q22: ⅹ | R22: 5 | S22: 반 | T22: ⅹ | U22: 12 | V22: 월 | W22: = | X22: =L22*O22*R22*U22 -> 421200000
I23: ㅇ | J23: 주부수영교실(주3회) | L23: 45700 | M23: 원 | N23: ⅹ | O23: 74 | P23: 명 | Q23: ⅹ | R23: 3 | S23: 반 | T23: ⅹ | U23: 12 | V23: 월 | W23: = | X23: =(L23*O23*R23*U23)+(L24*O24*R24*U24) -> 178257120
J24: 주부수영교실(주2회) | L24: 31820 | M24: 원 | N24: ⅹ | O24: 74 | P24: 명 | Q24: ⅹ | R24: 2 | S24: 반 | T24: ⅹ | U24: 12 | V24: 월 | W24: =
I25: ㅇ | J25: 청소년수영교실(주3회) | L25: 35500 | M25: 원 | N25: ⅹ | O25: 90 | P25: 명 | Q25: ⅹ | R25: 2 | S25: 반 | T25: ⅹ | U25: 12 | V25: 월 | W25: = | X25: =(L25*O25*R25*U25)+(L26*O26*R26*U26) -> 129686400
I26: ㅇ | J26: 청소년수영교실(주2회) | L26: 24540 | M26: 원 | N26: ⅹ | O26: 90 | P26: 명 | Q26: ⅹ | R26: 2 | S26: 반 | T26: ⅹ | U26: 12 | V26: 월 | W26: =
I27: ㅇ | J27: 어린이수영교실(주3회) | L27: 30460 | M27: 원 | N27: ⅹ | O27: 50 | P27: 명 | Q27: ⅹ | R27: 1 | S27: 반 | T27: ⅹ | U27: 12 | V27: 월 | W27: = | X27: =(L27*O27*R27*U27)+(L28*O28*R28*U28) -> 30822000
I28: ㅇ | J28: 어린이수영교실(주2회) | L28: 20910 | M28: 원 | N28: ⅹ | O28: 50 | P28: 명 | Q28: ⅹ | R28: 1 | S28: 반 | T28: ⅹ | U28: 12 | V28: 월 | W28: =
I29: ㅇ | J29: 아쿠아로빅교실(화.목.토) | L29: 50000 | M29: 원 | N29: ⅹ | O29: 67 | P29: 명 | Q29: ⅹ | R29: 5 | S29: 반 | T29: ⅹ | U29: 12 | V29: 월 | W29: = | X29: =L29*O29*R29*U29 -> 201000000
I30: ㅇ | J30: 아쿠아로빅교실(월.수.금) | L30: 50000 | M30: 원 | N30: ⅹ | O30: 67 | P30: 명 | Q30: ⅹ | R30: 3 | S30: 반 | T30: ⅹ | U30: 12 | V30: 월 | W30: = | X30: =L30*O30*R30*U30 -> 120600000
I31: ㅇ | J31: 효도수영교실 | L31: 30460 | M31: 원 | N31: ⅹ | O31: 10 | P31: 명 | Q31: ⅹ | R31: 3 | S31: 반 | T31: ⅹ | U31: 12 | V31: 월 | W31: = | X31: =L31*O31*R31*U31 -> 10965600
I32: ㅇ | J32: 햇살수영 | L32: 45700 | M32: 원 | N32: ⅹ | O32: 6 | P32: 명 | Q32: ⅹ | R32: 2 | S32: 반 | T32: ⅹ | U32: 12 | V32: 월 | W32: = | X32: =L32*O32*R32*U32 -> 6580800
I33: ㅇ | J33: 소그룹레슨3회 | L33: 136363 | M33: 원 | N33: ⅹ | O33: 5 | P33: 명 | Q33: ⅹ | R33: 3 | S33: 반 | T33: ⅹ | U33: 12 | V33: 월 | W33: = | X33: =L33*O33*R33*U33 -> 24545340
I34: ㅇ | J34: 소그룹레슨2회 | L34: 109090 | M34: 원 | N34: ⅹ | O34: 5 | P34: 명 | Q34: ⅹ | R34: 3 | S34: 반 | T34: ⅹ | U34: 12 | V34: 월 | W34: = | X34: =L34*O34*R34*U34 -> 19636200
I35: ㅇ | J35: 소그룹레슨1회 | L35: 81819 | M35: 원 | N35: ⅹ | O35: 4 | P35: 명 | Q35: ⅹ | R35: 14 | S35: 반 | T35: ⅹ | U35: 12 | V35: 월 | W35: = | X35: =L35*O35*R35*U35 -> 54982368
I36: ㅇ | J36: 소그룹방학특강 | L36: 109090 | M36: 원 | N36: ⅹ | O36: 5 | P36: 명 | Q36: ⅹ | R36: 3 | S36: 반 | T36: ⅹ | U36: 2 | V36: 월 | W36: = | X36: =L36*O36*R36*U36 -> 3272700
I37: ㅇ | J37: 아쿠아테라피 | L37: 90910 | M37: 원 | N37: ⅹ | O37: 8 | P37: 명 | Q37: ⅹ | R37: 1 | S37: 반 | T37: ⅹ | U37: 12 | V37: 월 | W37: = | X37: =L37*O37*R37*U37 -> 8727360
I38: [제1회추경] | X38: =SUM(X39:X43) -> 16718238
I39: ㅇ | J39: 새벽 및 저녁수영교실(성인) | K39: (경정) | L39: 428400000 | M39: 원 | N39: - | O39: (기정) | P39: 421200000 | U39: 원 | W39: = | X39: =L39-P39 -> 7200000
I40: ㅇ | J40: 아쿠아로빅교실(화.목.토) | K40: (경정) | L40: 204000000 | M40: 원 | N40: - | O40: (기정) | P40: 201000000 | U40: 원 | W40: = | X40: =L40-P40 -> 3000000
...

Sheet 세출
B1: 2019년 제1차 추가경정 세출 예산(안)
I2: (단위:천원) | AD2: (단위:원)
B3: 예 산 과 목 | G3: 예산액 (1회추경) | H3: 기정예산 (당초) | I3: 증ㆍ감(△) | J3: 산 출 기 초
B4: 장 | C4: 관 | D4: 항 | E4: 목 | F4: 세 목
B5: 합 계 | G5: =G6+G571 -> 3986822 | H5: =H6+H571 -> 3818609 | I5: =I6+I571 -> 168213 | AE5: =AD10+AD46+AD56+AD92+AD99+AD104+AD113+AD122+AD128+AD132+AD138+AD172+AD253+AD255+AD262+AD266+AD274+AD281+AD344+AD380+AD385+AD392+AD420+AD432+AD440+AD471+AD477+AD483+AD485+AD488+AD496+AD542+AD562+AD567+AD575+AD580+AD608+AD613+AD620+AD628 -> 3986822000
B6: 200 운영사업비용 | G6: =G7+G493 -> 3632818 | H6: =H7+H493 -> 3479990 | I6: =I7+I493 -> 152828
C7: 210 영업비용 | G7: =G8+G279 -> 3254656 | H7: =H8+H279 -> 3101868 | I7: =I8+I279 -> 152788
D8: 211 인력운영비 | G8: =G9+G265 -> 1456732 | H8: =H9+H265 -> 1510224 | I8: =I9+I265 -> -53492
E9: 101 인건비 | G9: =G10+G92+G46+G113+G56+G99+G104+G122+G128+G132+G138+G172+G253+G255+G262 -> 1322215 | H9: =H10+H92+H46+H113+H56+H99+H104+H122+H128+H132+H138+H172+H253+H255+H262 -> 1381263 | I9: =I10+I92+I46+I113+I56+I99+I104+I122+I128+I132+I138+I172+I253+I255+I262 -> -59048
F10: 01 기본급 | G10: 287981 | H10: 291890 | I10: =G10-H10 -> -3909 | J10: 01 기본급 | AD10: =AD11+AD43 -> 287981060
J11: [본예산] | AD11: =SUM(AD12:AD41) -> 291890080
J12: ㅇ | K12: 1급(7호봉기준) | M12: 1949040 | N12: 원 | O12: ⅹ | P12: 11 | Q12: 월 | R12: ⅹ | S12: 1 | T12: 명 | AC12: = | AD12: =M12*P12*S12 -> 21439440
M13: 1906380 | N13: 원 | O13: ⅹ | P13: 1 | Q13: 월 | R13: ⅹ | S13: 1 | T13: 명 | AC13: = | AD13: =M13*P13*S13 -> 1906380
J14: ㅇ | K14: 3급(14호봉기준) | M14: 1701130 | N14: 원 | O14: ⅹ | P14: 12 | Q14: 월 | R14: ⅹ | S14: 1 | T14: 명 | AC14: = | AD14: =M14*P14*S14 -> 20413560
J15: ㅇ | K15: 4급(13호봉기준) | M15: 1549170 | N15: 원 | O15: ⅹ | P15: 2 | Q15: 월 | R15: ⅹ | S15: 1 | T15: 명 | AC15: = | AD15: =M15*P15*S15 -> 3098340
M16: 1513730 | N16: 원 | O16: ⅹ | P16: 10 | Q16: 월 | R16: ⅹ | S16: 1 | T16: 명 | AC16: = | AD16: =M16*P16*S16 -> 15137300
J17: ㅇ | K17: 4급(12호봉기준) | M17: 1513730 | N17: 원 | O17: ⅹ | P17: 5 | Q17: 월 | R17: ⅹ | S17: 1 | T17: 명 | AC17: = | AD17: =M17*P17*S17 -> 7568650
M18: 1476680 | N18: 원 | O18: ⅹ | P18: 7 | Q18: 월 | R18: ⅹ | S18: 1 | T18: 명 | AC18: = | AD18: =M18*P18*S18 -> 10336760
J19: ㅇ | K19: 4급(11호봉기준) | M19: 1476680 | N19: 원 | O19: ⅹ | P19: 6 | Q19: 월 | R19: ⅹ | S19: 1 | T19: 명 | AC19: = | AD19: =M19*P19*S19 -> 8860080
M20: 1437710 | N20: 원 | O20: ⅹ | P20: 6 | Q20: 월 | R20: ⅹ | S20: 1 | T20: 명 | AC20: = | AD20: =M20*P20*S20 -> 8626260
J21: ㅇ | K21: 5급(16호봉기준) | M21: 1532880 | N21: 원 | O21: ⅹ | P21: 12 | Q21: 월 | R21: ⅹ | S21: 1 | T21: 명 | AC21: = | AD21: =M21*P21*S21 -> 18394560
J22: ㅇ | K22: 5급(12호봉기준) | M22: 1387850 | N22: 원 | O22: ⅹ | P22: 5 | Q22: 월 | R22: ⅹ | S22: 1 | T22: 명 | AC22: = | AD22: =M22*P22*S22 -> 6939250
M23: 1347250 | N23: 원 | O23: ⅹ | P23: 7 | Q23: 월 | R23: ⅹ | S23: 1 | T23: 명 | AC23: = | AD23: =M23*P23*S23 -> 9430750
J24: ㅇ | K24: 5급(10호봉기준) | M24: 1302690 | N24: 원 | O24: ⅹ | P24: 10 | Q24: 월 | R24: ⅹ | S24: 1 | T24: 명 | AC24: = | AD24: =M24*P24*S24 -> 13026900
M25: 1259720 | N25: 원 | O25: ⅹ | P25: 2 | Q25: 월 | R25: ⅹ | S25: 1 | T25: 명 | AC25: = | AD25: =M25*P25*S25 -> 2519440
J26: ㅇ | K26: 5급(9호봉기준) | M26: 1259720 | N26: 원 | O26: ⅹ | P26: 7 | Q26: 월 | R26: ⅹ | S26: 1 | T26: 명 | AC26: = | AD26: =M26*P26*S26 -> 8818040
M27: 1212680 | N27: 원 | O27: ⅹ | P27: 5 | Q27: 월 | R27: ⅹ | S27: 1 | T27: 명 | AC27: = | AD27: =M27*P27*S27 -> 6063400
J28: ㅇ | K28: 5급(8호봉기준) | M28: 1212680 | N28: 원 | O28: ⅹ | P28: 5 | Q28: 월 | R28: ⅹ | S28: 1 | T28: 명 | AC28: = | AD28: =M28*P28*S28 -> 6063400
M29: 1163270 | N29: 원 | O29: ⅹ | P29: 7 | Q29: 월 | R29: ⅹ | S29: 1 | T29: 명 | AC29: = | AD29: =M29*P29*S29 -> 8142890
J30: ㅇ | K30: 5급(7호봉기준) | M30: 1163270 | N30: 원 | O30: ⅹ | P30: 8 | Q30: 월 | R30: ⅹ | S30: 1 | T30: 명 | AC30: = | AD30: =M30*P30*S30 -> 9306160
M31: 1111510 | N31: 원 | O31: ⅹ | P31: 16 | Q31: 월 | R31: ⅹ | S31: 1 | T31: 명 | AC31: = | AD31: =M31*P31*S31 -> 17784160
J32: ㅇ | K32: 5급(4호봉기준) | M32: 1009180 | N32: 원 | O32: ⅹ | P32: 1 | Q32: 월 | R32: ⅹ | S32: 1 | T32: 명 | AC32: = | AD32: =M32*P32*S32 -> 1009180
M33: 959620 | N33: 원 | O33: ⅹ | P33: 11 | Q33: 월 | R33: ⅹ | S33: 1 | T33: 명 | AC33: = | AD33: =M33*P33*S33 -> 10555820
J34: ㅇ | K34: 6급(11호봉기준) | M34: 1205710 | N34: 원 | O34: ⅹ | P34: 6 | Q34: 월 | R34: ⅹ | S34: 1 | T34: 명 | AC34: = | AD34: =M34*P34*S34 -> 7234260
M35: 1169030 | N35: 원 | O35: ⅹ | P35: 6 | Q35: 월 | R35: ⅹ | S35: 1 | T35: 명 | AC35: = | AD35: =M35*P35*S35 -> 7014180
J36: ㅇ | K36: 6급(10호봉기준) | M36: 1169030 | N36: 원 | O36: ⅹ | P36: 6 | Q36: 월 | R36: ⅹ | S36: 1 | T36: 명 | AC36: = | AD36: =M36*P36*S36 -> 7014180
M37: 1129250 | N37: 원 | O37: ⅹ | P37: 6 | Q37: 월 | R37: ⅹ | S37: 1 | T37: 명 | AC37: = | AD37: =M37*P37*S37 -> 6775500
J38: ㅇ | K38: 6급(9호봉기준) | M38: 1129250 | N38: 원 | O38: ⅹ | P38: 12 | Q38: 월 | R38: ⅹ | S38: 1 | T38: 명 | AC38: = | AD38: =M38*P38*S38 -> 13551000
J39: ㅇ | K39: 6급(8호봉기준) | M39: 1087760 | N39: 원 | O39: ⅹ | P39: 6 | Q39: 월 | R39: ⅹ | S39: 1 | T39: 명 | AC39: = | AD39: =M39*P39*S39 -> 6526560
M40: 1043920 | N40: 원 | O40: ⅹ | P40: 6 | Q40: 월 | R40: ⅹ | S40: 1 | T40: 명 | AC40: = | AD40: =M40*P40*S40 -> 6263520
...
