Workbook

Sheet 명시이월사업조서표지
A4: 명시이월사업조서

Sheet 예산총칙
A1: 예 산 총 칙
A2: 제1조 ( 총 칙 ) 2019년도 제1회 청소년수련관의 추가경정 예산은 다음과 같이 정한다.
A3: 제2조 (예산규모) 2019년도 제1회 청소년수련관의 추가경정 예산 세입 및 세출은 다음과 같이 정한다.
F4: (단위 : 천원)
A5: 세 입 | D5: 세 출
A6: 과 목 | C6: 금액(천원) | D6: 과 목 | F6: 금액(천원)
A7: 수 입 합 계 | C7: =C8+C13 -> 3986822 | D7: 지 출 합 계 | F7: =F8+F13 -> 3986822
A8: 운영사업수익 | C8: =C9+C10 -> 3763283 | D8: 운영사업비용 | F8: =F9+F10+F12 -> 3632818
B9: 영업수익 | C9: 2656793 | E9: 영업비용 | F9: 3254656
B10: 영업외수익 | C10: 1106490 | E10: 영업외비용 | F10: 378162
B11: 특별이익 | C11: 0 | E11: 특별손실 | F11: 0
E12: 예비비 | F12: 0
A13: 자본적수익 | C13: =C14 -> 223539 | D13: 자본적지출 | F13: =F14+F15+F16+F17 -> 354004
B14: 유동부채수익 | C14: 223539 | E14: 고정자산 | F14: 195659
E15: 투자자산 | F15: 4412
E16: 유동부채 | F16: 153933
E17: 예비비 | F17: 0
A19: 제3조 (세입세출예산) 2019년도 제1회 청소년수련관의 세입세출예산의 명세는 별첨 '2019 제1회 추가경정예산'과 같다.
A20: 제4조 (채무부담행위) 2019년도 제1회 추가경정 채무부담행위는 해당사항 없다.
A21: 제5조 (차입금) 2019년도 제1회 추가경정예산 차입금 한도액은 119,604천원으로 정한다.
A22: 제6조 (명시이월사업) 2019년도 제1회 추가경정 명시이월사업은 해당사항 없다.
A23: 제7조 (예산전용) 관장은 예산집행상 불가피한 경우 예산을 전용할 수 있다. 단, 항 이상의 예산전용은 시장의 승인을 받아야 한다.
A24: 제8조 (시보조금) 청소년수련관운영을 위하여 구리시로 부터 보조받는 금액은 다음과 같다.
A25: 1. 운영보조금 ---------------------------------------- 700,000천원
A26: 2. 청소년지도사 배치지원 ---------------------------------- 25,080천원
A27: 제9조 (예비비) 2019년도 제1회 추가경정 예비비는 0원으로 한다.

Sheet 예산총괄표
A1: 2019년도 제1회 추가경정 예산총괄표
A2: [본예산+제1회추경예산] | G2: (단위 : 천원)
A3: 사 업 예 산 | C3: 자 본 예 산 | E3: 자 금 운 영 | G3: 비 고
A4: 수 입 계(A) | B4: =B5+B6 -> 3763283 | C4: 수 입 계(A') | D4: =D8 -> 223539 | E4: 수 입 계(A") | F4: =B4+D4 -> 3986822
A5: 영업수익 | B5: 2656793 | E5: 영업수익 | F5: =B5 -> 2656793
A6: 영업외수익 | B6: 1106490 | E6: 영업외수익 | F6: =B6 -> 1106490
A7: 특별이익 | B7: 0 | E7: 특별이익 | F7: 0
C8: 유동부채수익 | D8: 223539 | E8: 유동부채수익 | F8: =D8 -> 223539
A9: 지 출 계(B) | B9: =SUM(B10:B16) -> 3632818 | C9: 지 출 계(B') | D9: =SUM(D10:D16) -> 354004 | E9: 지 출 계(B") | F9: =SUM(F10:F16) -> 3986822
A10: 영업비용 | B10: 3254656 | E10: 영업비용 | F10: =B10 -> 3254656
A11: 영업외비용 | B11: 378162 | E11: 영업외비용 | F11: =B11 -> 378162
A12: 특별손실 | B12: 0 | E12: 특별손실 | F12: 0
C13: 고정자산 | D13: 195659 | E13: 고정자산 | F13: =D13 -> 195659
C14: 투자자산 | D14: 4412 | E14: 투자자산 | F14: =D14 -> 4412
C15: 유동부채상환금 | D15: 153933 | E15: 유동부채상환금 | F15: =D15 -> 153933
A16: 예비비 | B16: 0 | C16: 예비비 | D16: 0 | E16: 예비비 | F16: =B16+D16 -> 0

Sheet 세입총괄표
A1: 2019년 제1회 추가경정 세입 예산 총괄
A2: [본예산+제1회추경예산] | F2: (단위 : 천원) | V2: (단위:천원)
A3: 예 산 과 목 | D3: 예산액 | E3: 기정액 | F3: 증ㆍ감(△) | G3: 산 출 기 초
A4: 장 | B4: 관 | C4: 항 | D4: 제1회추경예산 | E4: 본예산
A5: 합 계 | D5: =D6+D18 -> 3986822 | E5: =E6+E18 -> 3818609 | F5: =F6+F18 -> 168213
A6: 100 운영사업수익 | D6: =D7+D13 -> 3763283 | E6: =E7+E13 -> 3599120 | F6: =D6-E6 -> 164163
B7: 110 영업수익 | D7: =SUM(D8:D12) -> 2656793 | E7: =SUM(E8:E12) -> 2562258 | F7: =SUM(F8:F12) -> 94535
C8: 111 시설사용료 수익 | D8: 54781 | E8: 54781 | F8: =D8-E8 -> 0
C9: 112 사업수익 | D9: 2394165 | E9: 2365554 | F9: =D9-E9 -> 28611
C10: 113 임대수익 | D10: 89505 | E10: 54640 | F10: =D10-E10 -> 34865
C11: 114 기타사업수익 | D11: 50800 | E11: 45244 | F11: =D11-E11 -> 5556
C12: 115 지난연도수입(미수금) | D12: 67542 | E12: 42039 | F12: =D12-E12 -> 25503
B13: 120 영업외수익 | D13: =SUM(D14:D17) -> 1106490 | E13: =SUM(E14:E17) -> 1036862 | F13: =SUM(F14:F17) -> 69628
C14: 121 이월금수익 | D14: 62233 | E14: 0 | F14: =D14-E14 -> 62233
C15: 122 이자수익 | D15: 540 | E15: 540 | F15: =D15-E15 -> 0
C16: 125 보조금수익 | D16: 725080 | E16: 725080 | F16: =D16-E16 -> 0
C17: 128 목적사업수익 | D17: 318637 | E17: 311242 | F17: =D17-E17 -> 7395
A18: 300 자본적수익 | D18: =D19 -> 223539 | E18: =E19 -> 219489 | F18: =F19 -> 4050 | G18: =G19 -> 0 | H18: =H19 -> 0 | I18: =I19 -> 0 | J18: =J19 -> 0 | K18: =K19 -> 0 | ... V18: =V19 -> 0
B19: 310 유동부채수입 | D19: =SUM(D20:D21) -> 223539 | E19: =SUM(E20:E21) -> 219489 | F19: =SUM(F20:F21) -> 4050
C20: 311 보증금수입 | D20: 11000 | E20: 11000 | F20: =D20-E20 -> 0
C21: 312 부가세 예수금 | D21: 212539 | E21: 208489 | F21: =D21-E21 -> 4050

Sheet 세출총괄표
A1: 2019년 제1회 추가경정 세출 예산총괄
A2: [본예산+제1회추경예산] | F2: (단위 : 천원) | H2: =#REF!-#REF! -> #REF! | U2: (단위:천원)
A3: 예 산 과 목 | D3: 예산액 | E3: 기정액 | F3: 증ㆍ감(△) | G3: 산 출 기 초 | V3: 예산설명서 | X3: 산 출 기 초 | AM3: 산 출 기 초
A4: 장 | B4: 관 | C4: 항 | D4: 제1회추경예산 | E4: 본예산
A5: 합 계 | D5: =D6+D15 -> 3986822 | E5: =E6+E15 -> 3818609 | F5: =F6+F15 -> 168213
A6: 200 운영사업비용 | D6: =D7+D10+D13 -> 3632818 | E6: =E7+E10+E13 -> 3479990 | F6: =F7+F10+F13 -> 152828
B7: 210 영업비용 | D7: =SUM(D8:D9) -> 3254656 | E7: =SUM(E8:E9) -> 3101868 | F7: =D7-E7 -> 152788
C8: 211 인력운영비 | D8: 1456732 | E8: 1510224 | F8: =D8-E8 -> -53492
C9: 212 운영경비 | D9: 1797924 | E9: 1591644 | F9: =D9-E9 -> 206280
B10: 220 영업외비용 | D10: =SUM(D11:D12) -> 378162 | E10: =SUM(E11:E12) -> 378122 | F10: =D10-E10 -> 40
C11: 215 목적사업비 | D11: 374662 | E11: 375064 | F11: =D11-E11 -> -402
C12: 221 이전경비 | D12: 3500 | E12: 3058 | F12: =D12-E12 -> 442
B13: 810예비비 | D13: =D14 -> 0 | E13: =E14 -> 0 | F13: =D13-E13 -> 0
C14: 811예비비 | D14: 0 | E14: 0 | F14: =D14-E14 -> 0
A15: 300 자본적지출 | D15: =D16+D19+D21+D23 -> 354004 | E15: =E16+E19+E21+E23 -> 338619 | F15: =F16+F19+F21+F23 -> 15385
B16: 310 고정자산 | D16: =SUM(D17:D18) -> 195659 | E16: =SUM(E17:E18) -> 207619 | F16: =D16-E16 -> -11960
C17: 313 시설,기계 | D17: 4345 | E17: 0 | F17: =D17-E17 -> 4345
C18: 317 집기비품 | D18: 191314 | E18: 207619 | F18: =D18-E18 -> -16305
B19: 320 투자자산 | D19: =D20 -> 4412 | E19: =E20 -> 0 | F19: =D19-E19 -> 4412
C20: 321 기타투자자산 | D20: 4412 | E20: 0 | F20: =D20-E20 -> 4412
B21: 370 유동부채 | D21: =D22 -> 153933 | E21: =E22 -> 131000 | F21: =D21-E21 -> 22933
C22: 371 유동부채상환금 | D22: 153933 | E22: 131000 | F22: =D22-E22 -> 22933
B23: 810예비비 | D23: =D24 -> 0 | E23: =E24 -> 0 | F23: =D23-E23 -> 0
C24: 811예비비 | D24: 0 | E24: 0 | F24: =D24-E24 -> 0

Sheet 세입
A1: 2019년 제1차 추가경정 세입 예산(안)
H2: (단위:천원) | X2: (단위:원)
A3: 예 산 과 목 | F3: 예산액 (1회추경) | G3: 기정예산 (당초) | H3: 증ㆍ감(△) | I3: 산 출 기 초
A4: 장 | B4: 관 | C4: 항 | D4: 목 | E4: 세 목
A5: 합 계 | F5: =F6+F255 -> 3986822 | G5: =G6+G255 -> 3818609 | H5: =H6+H255 -> 168213 | Y5: =Y6+Y255 -> 3986822000
A6: 100 운영사업수익 | F6: =F7+F194 -> 3763283 | G6: =G7+G194 -> 3599120 | H6: =H7+H194 -> 164163.04 | Y6: =Y7+Y194 -> 3763283038
B7: 110 영업수익 | F7: =F8+F18+F163+F173+F188 -> 2656793 | G7: =G8+G18+G163+G173+G188 -> 2562258 | H7: =H8+H18+H163+H173+H188 -> 94534.992 | Y7: =Y8+Y18+Y163+Y173+Y188 -> 2656792992
C8: 111 시설사용료 수익 | F8: =F9 -> 54781.2 | G8: =G9 -> 54781 | H8: =H9 -> 0.2 | Y8: =X10 -> 54781200
D9: 101 사용료 수익 | F9: =F10 -> 54781.2 | G9: =G10 -> 54781 | H9: =H10 -> 0.2
E10: 01 대관료수익 | F10: =X10/1000 -> 54781.2 | G10: 54781 | H10: =F10-G10 -> 0.2 | I10: 01 대관료 | X10: =X11+X17 -> 54781200
I11: ㅇ | J11: 공연장 | X11: =SUM(X12:X16) -> 51181200
J12: 오전 | L12: 72720 | M12: 원 | N12: ⅹ | O12: 12 | P12: 회 | Q12: ⅹ | R12: 12 | S12: 월 | W12: = | X12: =L12*O12*R12 -> 10471680
J13: 오후 | L13: 81810 | M13: 원 | N13: ⅹ | O13: 10 | P13: 회 | Q13: ⅹ | R13: 12 | S13: 월 | W13: = | X13: =L13*O13*R13 -> 9817200
J14: 야간 | L14: 90000 | M14: 원 | N14: ⅹ | O14: 8 | P14: 회 | Q14: ⅹ | R14: 12 | S14: 월 | W14: = | X14: =L14*O14*R14 -> 8640000
J15: 추가시간요금 | L15: 18180 | M15: 원 | N15: ⅹ | O15: 22 | P15: 회 | Q15: ⅹ | R15: 12 | S15: 월 | W15: = | X15: =L15*O15*R15 -> 4799520
J16: 조명 및 기자재 요금 | L16: 36360 | M16: 원 | N16: ⅹ | O16: 40 | P16: 회 | Q16: ⅹ | R16: 12 | S16: 월 | W16: = | X16: =L16*O16*R16 -> 17452800
I17: ㅇ | J17: 각종교실 | L17: 15000 | M17: 원 | N17: ⅹ | O17: 20 | P17: 회 | Q17: ⅹ | R17: 12 | S17: 월 | W17: = | X17: =L17*O17*R17 -> 3600000
C18: 112 사업수익 | F18: =F19+F50+F101 -> 2394166 | G18: =G19+G50+G101 -> 2365554 | H18: =H19+H50+H101 -> 28611.966 | Y18: =Y19+Y50+Y101 -> 2394165966
D19: 201 수영장 운영수익 | F19: =F20+F44 -> 1266834.1 | G19: =G20+G44 -> 1250116 | H19: =H20+H44 -> 16718.126 | Y19: =X20+X44 -> 1266834126
E20: 01 수영회원 | F20: =X20*1/1000 -> 1226994.1 | G20: 1210276 | H20: =F20-G20 -> 16718.126 | I20: 01 수영회원 (강습료포함) | X20: =SUM(X21,X38) -> 1226994126
I21: [본예산] | X21: =SUM(X22:X37) -> 1210275888
I22: ㅇ | J22: 새벽 및 저녁수영교실(성인) | L22: 60000 | M22: 원 | N22: ⅹ | O22: 117 | P22: 명 | Q22: ⅹ | R22: 5 | S22: 반 | T22: ⅹ | U22: 12 | V22: 월 | W22: = | X22: =L22*O22*R22*U22 -> 421200000
I23: ㅇ | J23: 주부수영교실(주3회) | L23: 45700 | M23: 원 | N23: ⅹ | O23: 74 | P23: 명 | Q23: ⅹ | R23: 3 | S23: 반 | T23: ⅹ | U23: 12 | V23: 월 | W23: = | X23: =(L23*O23*R23*U23)+(L24*O24*R24*U24) -> 178257120
J24: 주부수영교실(주2회) | L24: 31820 | M24: 원 | N24: ⅹ | O24: 74 | P24: 명 | Q24: ⅹ | R24: 2 | S24: 반 | T24: ⅹ | U24: 12 | V24: 월 | W24: =
I25: ㅇ | J25: 청소년수영교실(주3회) | L25: 35500 | M25: 원 | N25: ⅹ | O25: 90 | P25: 명 | Q25: ⅹ | R25: 2 | S25: 반 | T25: ⅹ | U25: 12 | V25: 월 | W25: = | X25: =(L25*O25*R25*U25)+(L26*O26*R26*U26) -> 129686400
I26: ㅇ | J26: 청소년수영교실(주2회) | L26: 24540 | M26: 원 | N26: ⅹ | O26: 90 | P26: 명 | Q26: ⅹ | R26: 2 | S26: 반 | T26: ⅹ | U26: 12 | V26: 월 | W26: =
I27: ㅇ | J27: 어린이수영교실(주3회) | L27: 30460 | M27: 원 | N27: ⅹ | O27: 50 | P27: 명 | Q27: ⅹ | R27: 1 | S27: 반 | T27: ⅹ | U27: 12 | V27: 월 | W27: = | X27: =(L27*O27*R27*U27)+(L28*O28*R28*U28) -> 30822000
I28: ㅇ | J28: 어린이수영교실(주2회) | L28: 20910 | M28: 원 | N28: ⅹ | O28: 50 | P28: 명 | Q28: ⅹ | R28: 1 | S28: 반 | T28: ⅹ | U28: 12 | V28: 월 | W28: =
I29: ㅇ | J29: 아쿠아로빅교실(화.목.토) | L29: 50000 | M29: 원 | N29: ⅹ | O29: 67 | P29: 명 | Q29: ⅹ | R29: 5 | S29: 반 | T29: ⅹ | U29: 12 | V29: 월 | W29: = | X29: =L29*O29*R29*U29 -> 201000000
I30: ㅇ | J30: 아쿠아로빅교실(월.수.금) | L30: 50000 | M30: 원 | N30: ⅹ | O30: 67 | P30: 명 | Q30: ⅹ | R30: 3 | S30: 반 | T30: ⅹ | U30: 12 | V30: 월 | W30: = | X30: =L30*O30*R30*U30 -> 120600000
I31: ㅇ | J31: 효도수영교실 | L31: 30460 | M31: 원 | N31: ⅹ | O31: 10 | P31: 명 | Q31: ⅹ | R31: 3 | S31: 반 | T31: ⅹ | U31: 12 | V31: 월 | W31: = | X31: =L31*O31*R31*U31 -> 10965600
I32: ㅇ | J32: 햇살수영 | L32: 45700 | M32: 원 | N32: ⅹ | O32: 6 | P32: 명 | Q32: ⅹ | R32: 2 | S32: 반 | T32: ⅹ | U32: 12 | V32: 월 | W32: = | X32: =L32*O32*R32*U32 -> 6580800
I33: ㅇ | J33: 소그룹레슨3회 | L33: 136363 | M33: 원 | N33: ⅹ | O33: 5 | P33: 명 | Q33: ⅹ | R33: 3 | S33: 반 | T33: ⅹ | U33: 12 | V33: 월 | W33: = | X33: =L33*O33*R33*U33 -> 24545340
I34: ㅇ | J34: 소그룹레슨2회 | L34: 109090 | M34: 원 | N34: ⅹ | O34: 5 | P34: 명 | Q34: ⅹ | R34: 3 | S34: 반 | T34: ⅹ | U34: 12 | V34: 월 | W34: = | X34: =L34*O34*R34*U34 -> 19636200
I35: ㅇ | J35: 소그룹레슨1회 | L35: 81819 | M35: 원 | N35: ⅹ | O35: 4 | P35: 명 | Q35: ⅹ | R35: 14 | S35: 반 | T35: ⅹ | U35: 12 | V35: 월 | W35: = | X35: =L35*O35*R35*U35 -> 54982368
I36: ㅇ | J36: 소그룹방학특강 | L36: 109090 | M36: 원 | N36: ⅹ | O36: 5 | P36: 명 | Q36: ⅹ | R36: 3 | S36: 반 | T36: ⅹ | U36: 2 | V36: 월 | W36: = | X36: =L36*O36*R36*U36 -> 3272700
I37: ㅇ | J37: 아쿠아테라피 | L37: 90910 | M37: 원 | N37: ⅹ | O37: 8 | P37: 명 | Q37: ⅹ | R37: 1 | S37: 반 | T37: ⅹ | U37: 12 | V37: 월 | W37: = | X37: =L37*O37*R37*U37 -> 8727360
I38: [제1회추경] | X38: =SUM(X39:X43) -> 16718238
I39: ㅇ | J39: 새벽 및 저녁수영교실(성인) | K39: (경정) | L39: 428400000 | M39: 원 | N39: - | O39: (기정) | P39: 421200000 | U39: 원 | W39: = | X39: =L39-P39 -> 7200000
I40: ㅇ | J40: 아쿠아로빅교실(화.목.토) | K40: (경정) | L40: 204000000 | M40: 원 | N40: - | O40: (기정) | P40: 201000000 | U40: 원 | W40: = | X40: =L40-P40 -> 3000000
I41: ㅇ | J41: 아쿠아로빅교실(월.수.금) | K41: (경정) | L41: 121500000 | M41: 원 | N41: - | O41: (기정) | P41: 120600000 | U41: 원 | W41: = | X41: =L41-P41 -> 900000
I42: ㅇ | J42: 소그룹레슨1회 | K42: (경정) | L42: 58418766 | M42: 원 | N42: - | O42: (기정) | P42: 54982368 | U42: 원 | W42: = | X42: =L42-P42 -> 3436398
I43: ㅇ | J43: 아쿠아테라피 | K43: (경정) | L43: 10909200 | M43: 원 | N43: - | O43: (기정) | P43: 8727360 | U43: 원 | W43: = | X43: =L43-P43 -> 2181840
E44: 02 자유수영 | F44: =X44*1/1000 -> 39840 | G44: 39840 | H44: =F44-G44 -> 0 | I44: 02 자유수영 | X44: =SUM(X45:X49) -> 39840000
I45: ㅇ | J45: 월단위 (성인) | L45: 60000 | M45: 원 | N45: ⅹ | O45: 2 | P45: 명 | Q45: ⅹ | R45: 1 | S45: 반 | T45: ⅹ | U45: 12 | V45: 월 | W45: = | X45: =L45*O45*R45*U45 -> 1440000
I46: ㅇ | J46: 월단위 (청소년) | L46: 50000 | M46: 원 | N46: ⅹ | O46: 1 | P46: 명 | Q46: ⅹ | R46: 1 | S46: 반 | T46: ⅹ | U46: 12 | V46: 월 | W46: = | X46: =L46*O46*R46*U46 -> 600000
I47: ㅇ | J47: 성인 | L47: 3000 | M47: 원 | N47: ⅹ | O47: 600 | P47: 명 | Q47: ⅹ | R47: 1 | S47: 반 | T47: ⅹ | U47: 12 | V47: 월 | W47: = | X47: =L47*O47*R47*U47 -> 21600000
I48: ㅇ | J48: 청소년 | L48: 2500 | M48: 원 | N48: ⅹ | O48: 300 | P48: 명 | Q48: ⅹ | R48: 1 | S48: 반 | T48: ⅹ | U48: 12 | V48: 월 | W48: = | X48: =L48*O48*R48*U48 -> 9000000
I49: ㅇ | J49: 어린이 | L49: 2000 | M49: 원 | N49: ⅹ | O49: 300 | P49: 명 | Q49: ⅹ | R49: 1 | S49: 반 | T49: ⅹ | U49: 12 | V49: 월 | W49: = | X49: =L49*O49*R49*U49 -> 7200000
D50: 202 사회체육수익 | F50: =F51+F53+F55+F58+F60+F62+F67+F70+F77+F81+F86+F88+F91+F94+F98 -> 772057.44 | G50: =G51+G53+G55+G58+G60+G62+G67+G70+G77+G81+G86+G88+G91+G94+G98 -> 765564 | H50: =H51+H53+H55+H58+H60+H62+H67+H70+H77+H81+H86+H88+H91+H94+H98 -> 6493.44 | Y50: =X51+X53+X55+X58+X60+X62+X67+X70+X77+X81+X86+X88+X91+X94+X98 -> 772057440
E51: 01 에어로빅 | F51: =X51*1/1000 -> 63648 | G51: 63648 | H51: =F51-G51 -> 0 | I51: 01 에어로빅 | X51: =SUM(X52:X52) -> 63648000
I52: ㅇ | J52: 에어로빅 | L52: 39000 | M52: 원 | N52: ⅹ | O52: 34 | P52: 명 | Q52: ⅹ | R52: 4 | S52: 반 | T52: ⅹ | U52: 12 | V52: 월 | W52: = | X52: =L52*O52*R52*U52 -> 63648000
E53: 02 방송&스트릿댄스 | F53: =X53/1000 -> 9504 | G53: 9504 | H53: =F53-G53 -> 0 | I53: 02 방송&스트릿댄스 | X53: =SUM(X54:X54) -> 9504000
I54: ㅇ | J54: 방송&스트릿댄스 | L54: 36000 | M54: 원 | N54: ⅹ | O54: 22 | P54: 명 | Q54: ⅹ | R54: 1 | S54: 반 | T54: ⅹ | U54: 12 | V54: 월 | W54: = | X54: =L54*O54*R54*U54 -> 9504000
E55: 03 요가교실 | F55: =X55/1000 -> 56001.6 | G55: 56002 | H55: =F55-G55 -> -0.4 | I55: 03 요가수익 | X55: =SUM(X56:X57) -> 56001600
I56: ㅇ | J56: 힐링요가 | L56: 36000 | M56: 원 | N56: ⅹ | O56: 36 | P56: 명 | Q56: ⅹ | R56: 2 | S56: 반 | T56: ⅹ | U56: 12 | V56: 월 | W56: = | X56: =L56*O56*R56*U56 -> 31104000
I57: ㅇ | J57: 테라피요가 | L57: 27300 | M57: 원 | N57: ⅹ | O57: 38 | P57: 명 | Q57: ⅹ | R57: 2 | S57: 반 | T57: ⅹ | U57: 12 | V57: 월 | W57: = | X57: =L57*O57*R57*U57 -> 24897600
E58: 04 K-POP댄스 | F58: =X58/1000 -> 18432 | G58: 18432 | H58: =F58-G58 -> 0 | I58: 04 K-POP댄스 | X58: =X59 -> 18432000
I59: ㅇ | J59: K-POP댄스 | L59: 24000 | M59: 원 | N59: ⅹ | O59: 32 | P59: 명 | Q59: ⅹ | R59: 2 | S59: 반 | T59: ⅹ | U59: 12 | V59: 월 | W59: = | X59: =L59*O59*R59*U59 -> 18432000
E60: 05 밸리댄스 | F60: =X60/1000 -> 7776 | G60: 7776 | H60: =F60-G60 -> 0 | I60: 05 밸리댄스 | X60: =SUM(X61:X61) -> 7776000
I61: ㅇ | J61: 밸리댄스 | L61: 36000 | M61: 원 | N61: ⅹ | O61: 18 | P61: 명 | Q61: ⅹ | R61: 1 | S61: 반 | T61: ⅹ | U61: 12 | V61: 월 | W61: = | X61: =L61*O61*R61*U61 -> 7776000
E62: 06 헬스 | F62: =X62/1000 -> 43402.8 | G62: 43403 | H62: =F62-G62 -> -0.2 | I62: 06 헬스 | X62: =SUM(X63:X66) -> 43402800
I63: ㅇ | J63: 헬스(성인) | L63: 25720 | M63: 원 | N63: ⅹ | O63: 120 | P63: 명 | Q63: ⅹ | R63: 1 | S63: 반 | T63: ⅹ | U63: 12 | V63: 월 | W63: = | X63: =L63*O63*R63*U63 -> 37036800
I64: ㅇ | J64: 헬스(청소년) | L64: 19720 | M64: 원 | N64: ⅹ | O64: 20 | P64: 명 | Q64: ⅹ | R64: 1 | S64: 반 | T64: ⅹ | U64: 12 | V64: 월 | W64: = | X64: =L64*O64*R64*U64 -> 4732800
I65: ㅇ | J65: 자유헬스(성인) | L65: 3630 | M65: 원 | N65: ⅹ | O65: 30 | P65: 명 | Q65: ⅹ | R65: 1 | S65: 반 | T65: ⅹ | U65: 12 | V65: 월 | W65: = | X65: =L65*O65*R65*U65 -> 1306800
I66: ㅇ | J66: 자유헬스(청소년) | L66: 2720 | M66: 원 | N66: ⅹ | O66: 10 | P66: 명 | Q66: ⅹ | R66: 1 | S66: 반 | T66: ⅹ | U66: 12 | V66: 월 | W66: = | X66: =L66*O66*R66*U66 -> 326400
E67: 07 필라테스 | F67: =X67/1000 -> 27018 | G67: 27018 | H67: =F67-G67 -> 0 | I67: 07 필라테스 | X67: =SUM(X68:X69) -> 27018000
I68: ㅇ | J68: 필라테스(주3회) | L68: 36000 | M68: 원 | N68: ⅹ | O68: 36 | P68: 명 | Q68: ⅹ | R68: 1 | S68: 반 | T68: ⅹ | U68: 12 | V68: 월 | W68: = | X68: =L68*O68*R68*U68 -> 15552000
I69: ㅇ | J69: 필라테스(주2회) | L69: 27300 | M69: 원 | N69: ⅹ | O69: 35 | P69: 명 | Q69: ⅹ | R69: 1 | S69: 반 | T69: ⅹ | U69: 12 | V69: 월 | W69: = | X69: =L69*O69*R69*U69 -> 11466000
E70: 08 다이어트댄스 | F70: =X70/1000 -> 31968 | G70: 26914 | H70: =F70-G70 -> 5054 | I70: 08 다이어트댄스 | X70: =SUM(X71,X74) -> 31968000
I71: [본예산] | X71: =SUM(X72:X73) -> 26913600
I72: ㅇ | J72: 다이어트댄스(주3회) | L72: 36000 | M72: 원 | N72: ⅹ | O72: 35 | P72: 명 | Q72: ⅹ | R72: 1 | S72: 반 | T72: ⅹ | U72: 12 | V72: 월 | W72: = | X72: =L72*O72*R72*U72 -> 15120000
I73: ㅇ | J73: 다이어트댄스(주2회) | L73: 27300 | M73: 원 | N73: ⅹ | O73: 36 | P73: 명 | Q73: ⅹ | R73: 1 | S73: 반 | T73: ⅹ | U73: 12 | V73: 월 | W73: = | X73: =L73*O73*R73*U73 -> 11793600
I74: [제1회추경] | X74: =SUM(X75:X76) -> 5054400
I75: ㅇ | J75: 다이어트댄스(주3회) | K75: (경정) | L75: 31968000 | M75: 원 | N75: - | O75: (기정) | P75: 15120000 | U75: 원 | W75: = | X75: =L75-P75 -> 16848000
I76: ㅇ | J76: 다이어트댄스(주2회) | K76: (경정) | L76: 0 | M76: 원 | N76: - | O76: (기정) | P76: 11793600 | U76: 원 | W76: = | X76: =L76-P76 -> -11793600
E77: 09 스피닝댄스 | F77: =X77/1000 -> 130930.56 | G77: 130931 | H77: =F77-G77 -> -0.44 | I77: 09 스피닝댄스 | X77: =SUM(X78:X80) -> 130930560
I78: ㅇ | J78: 스피닝댄스(주3회) | L78: 54000 | M78: 원 | N78: ⅹ | O78: 19 | P78: 명 | Q78: ⅹ | R78: 4 | S78: 반 | T78: ⅹ | U78: 12 | V78: 월 | W78: = | X78: =L78*O78*R78*U78 -> 49248000
I79: ㅇ | J79: 스피닝댄스(주2회) | L79: 36000 | M79: 원 | N79: ⅹ | O79: 20 | P79: 명 | Q79: ⅹ | R79: 4 | S79: 반 | T79: ⅹ | U79: 12 | V79: 월 | W79: = | X79: =L79*O79*R79*U79 -> 34560000
I80: ㅇ | J80: 스피닝댄스(주5회) | L80: 81810 | M80: 원 | N80: ⅹ | O80: 12 | P80: 명 | Q80: ⅹ | R80: 4 | S80: 반 | T80: ⅹ | U80: 12 | V80: 월 | W80: = | X80: =L80*O80*R80*U80 -> 47122560
E81: 10 음악줄넘기 | F81: =X81/1000 -> 43200 | G81: 41760 | H81: =F81-G81 -> 1440 | I81: 10 음악줄넘기 | X81: =SUM(X82,X84) -> 43200000
I82: [본예산] | X82: =SUM(X83) -> 41760000
I83: ㅇ | J83: 음악줄넘기 | L83: 24000 | M83: 원 | N83: ⅹ | O83: 29 | P83: 명 | Q83: ⅹ | R83: 5 | S83: 반 | T83: ⅹ | U83: 12 | V83: 월 | W83: = | X83: =L83*O83*R83*U83 -> 41760000
I84: [제1회추경] | X84: =SUM(X85) -> 1440000
I85: ㅇ | J85: 음악줄넘기 | K85: (경정) | L85: 43200000 | M85: 원 | N85: - | O85: (기정) | P85: 41760000 | U85: 원 | W85: = | X85: =L85-P85 -> 1440000
E86: 11 파워댄스 | F86: =X86/1000 -> 11664 | G86: 11664 | H86: =F86-G86 -> 0 | I86: 11 파워댄스 | X86: =SUM(X87:X87) -> 11664000
I87: ㅇ | J87: 파워댄스 | L87: 36000 | M87: 원 | N87: ⅹ | O87: 27 | P87: 명 | Q87: ⅹ | R87: 1 | S87: 반 | T87: ⅹ | U87: 12 | V87: 월 | W87: = | X87: =L87*O87*R87*U87 -> 11664000
E88: 12 멀티휘트니스 | F88: =X88/1000 -> 52193.04 | G88: 52193 | H88: =F88-G88 -> 0.04 | I88: 12 멀티휘트니스 | X88: =SUM(X89:X90) -> 52193040
I89: ㅇ | J89: 멀티휘트니스(주3회) | L89: 40900 | M89: 원 | N89: ⅹ | O89: 29 | P89: 명 | Q89: ⅹ | R89: 1 | S89: 반 | T89: ⅹ | U89: 12 | V89: 월 | W89: = | X89: =L89*O89*R89*U89 -> 14233200
I90: ㅇ | J90: 멀티휘트니스(주2회) | L90: 36360 | M90: 원 | N90: ⅹ | O90: 29 | P90: 명 | Q90: ⅹ | R90: 3 | S90: 반 | T90: ⅹ | U90: 12 | V90: 월 | W90: = | X90: =L90*O90*R90*U90 -> 37959840
E91: 13 줌바댄스 | F91: =X91/1000 -> 60768 | G91: 60768 | H91: =F91-G91 -> 0 | I91: 13 줌바댄스 | X91: =SUM(X92:X93) -> 60768000
I92: ㅇ | J92: 줌바댄스(주3회) | L92: 36000 | M92: 원 | N92: ⅹ | O92: 40 | P92: 명 | Q92: ⅹ | R92: 2 | S92: 반 | T92: ⅹ | U92: 12 | V92: 월 | W92: = | X92: =L92*O92*R92*U92 -> 34560000
I93: ㅇ | J93: 줌바댄스(주2회) | L93: 27300 | M93: 원 | N93: ⅹ | O93: 40 | P93: 명 | Q93: ⅹ | R93: 2 | S93: 반 | T93: ⅹ | U93: 12 | V93: 월 | W93: = | X93: =L93*O93*R93*U93 -> 26208000
E94: 14 기구필라테스 | F94: =X94/1000 -> 171487.44 | G94: 171487 | H94: =F94-G94 -> 0.44 | I94: 14 기구필라테스 | X94: =SUM(X95:X97) -> 171487440
I95: ㅇ | J95: 기구필라테스(주3회) | L95: 145450 | M95: 원 | N95: ⅹ | O95: 4 | P95: 명 | Q95: ⅹ | R95: 12 | S95: 반 | T95: ⅹ | U95: 12 | V95: 월 | W95: = | X95: =L95*O95*R95*U95 -> 83779200
I96: ㅇ | J96: 기구필라테스(주2회) | L96: 109090 | M96: 원 | N96: ⅹ | O96: 5 | P96: 명 | Q96: ⅹ | R96: 12 | S96: 반 | T96: ⅹ | U96: 12 | V96: 월 | W96: = | X96: =L96*O96*R96*U96 -> 78544800
I97: ㅇ | J97: 기구필라테스(주1회) | L97: 63635 | M97: 원 | N97: ⅹ | O97: 3 | P97: 명 | Q97: ⅹ | R97: 4 | S97: 반 | T97: ⅹ | U97: 12 | V97: 월 | W97: = | X97: =L97*O97*R97*U97 -> 9163440
E98: 15 바른자세척추운동 | F98: =X98/1000 -> 44064 | G98: 44064 | H98: =F98-G98 -> 0 | I98: 15 바른자세척추운동 | X98: =SUM(X99:X100) -> 44064000
I99: ㅇ | J99: 바른자세척추운동(주2회) | L99: 50000 | M99: 원 | N99: ⅹ | O99: 8 | P99: 명 | Q99: ⅹ | R99: 6 | S99: 반 | T99: ⅹ | U99: 12 | V99: 월 | W99: = | X99: =L99*O99*R99*U99 -> 28800000
I100: ㅇ | J100: 바른자세척추운동(주1회) | L100: 31800 | M100: 원 | N100: ⅹ | O100: 10 | P100: 명 | Q100: ⅹ | R100: 4 | S100: 반 | T100: ⅹ | U100: 12 | V100: 월 | W100: = | X100: =L100*O100*R100*U100 -> 15264000
...

Sheet 세출
B1: 2019년 제1차 추가경정 세출 예산(안)
I2: (단위:천원) | AD2: (단위:원)
B3: 예 산 과 목 | G3: 예산액 (1회추경) | H3: 기정예산 (당초) | I3: 증ㆍ감(△) | J3: 산 출 기 초
B4: 장 | C4: 관 | D4: 항 | E4: 목 | F4: 세 목
B5: 합 계 | G5: =G6+G571 -> 3986822 | H5: =H6+H571 -> 3818609 | I5: =I6+I571 -> 168213 | AE5: =AD10+AD46+AD56+AD92+AD99+AD104+AD113+AD122+AD128+AD132+AD138+AD172+AD253+AD255+AD262+AD266+AD274+AD281+AD344+AD380+AD385+AD392+AD420+AD432+AD440+AD471+AD477+AD483+AD485+AD488+AD496+AD542+AD562+AD567+AD575+AD580+AD608+AD613+AD620+AD628 -> 3986822000
B6: 200 운영사업비용 | G6: =G7+G493 -> 3632818 | H6: =H7+H493 -> 3479990 | I6: =I7+I493 -> 152828
C7: 210 영업비용 | G7: =G8+G279 -> 3254656 | H7: =H8+H279 -> 3101868 | I7: =I8+I279 -> 152788
D8: 211 인력운영비 | G8: =G9+G265 -> 1456732 | H8: =H9+H265 -> 1510224 | I8: =I9+I265 -> -53492
E9: 101 인건비 | G9: =G10+G92+G46+G113+G56+G99+G104+G122+G128+G132+G138+G172+G253+G255+G262 -> 1322215 | H9: =H10+H92+H46+H113+H56+H99+H104+H122+H128+H132+H138+H172+H253+H255+H262 -> 1381263 | I9: =I10+I92+I46+I113+I56+I99+I104+I122+I128+I132+I138+I172+I253+I255+I262 -> -59048
F10: 01 기본급 | G10: 287981 | H10: 291890 | I10: =G10-H10 -> -3909 | J10: 01 기본급 | AD10: =AD11+AD43 -> 287981060
J11: [본예산] | AD11: =SUM(AD12:AD41) -> 291890080
J12: ㅇ | K12: 1급(7호봉기준) | M12: 1949040 | N12: 원 | O12: ⅹ | P12: 11 | Q12: 월 | R12: ⅹ | S12: 1 | T12: 명 | AC12: = | AD12: =M12*P12*S12 -> 21439440
M13: 1906380 | N13: 원 | O13: ⅹ | P13: 1 | Q13: 월 | R13: ⅹ | S13: 1 | T13: 명 | AC13: = | AD13: =M13*P13*S13 -> 1906380
J14: ㅇ | K14: 3급(14호봉기준) | M14: 1701130 | N14: 원 | O14: ⅹ | P14: 12 | Q14: 월 | R14: ⅹ | S14: 1 | T14: 명 | AC14: = | AD14: =M14*P14*S14 -> 20413560
J15: ㅇ | K15: 4급(13호봉기준) | M15: 1549170 | N15: 원 | O15: ⅹ | P15: 2 | Q15: 월 | R15: ⅹ | S15: 1 | T15: 명 | AC15: = | AD15: =M15*P15*S15 -> 3098340
M16: 1513730 | N16: 원 | O16: ⅹ | P16: 10 | Q16: 월 | R16: ⅹ | S16: 1 | T16: 명 | AC16: = | AD16: =M16*P16*S16 -> 15137300
J17: ㅇ | K17: 4급(12호봉기준) | M17: 1513730 | N17: 원 | O17: ⅹ | P17: 5 | Q17: 월 | R17: ⅹ | S17: 1 | T17: 명 | AC17: = | AD17: =M17*P17*S17 -> 7568650
M18: 1476680 | N18: 원 | O18: ⅹ | P18: 7 | Q18: 월 | R18: ⅹ | S18: 1 | T18: 명 | AC18: = | AD18: =M18*P18*S18 -> 10336760
J19: ㅇ | K19: 4급(11호봉기준) | M19: 1476680 | N19: 원 | O19: ⅹ | P19: 6 | Q19: 월 | R19: ⅹ | S19: 1 | T19: 명 | AC19: = | AD19: =M19*P19*S19 -> 8860080
M20: 1437710 | N20: 원 | O20: ⅹ | P20: 6 | Q20: 월 | R20: ⅹ | S20: 1 | T20: 명 | AC20: = | AD20: =M20*P20*S20 -> 8626260
J21: ㅇ | K21: 5급(16호봉기준) | M21: 1532880 | N21: 원 | O21: ⅹ | P21: 12 | Q21: 월 | R21: ⅹ | S21: 1 | T21: 명 | AC21: = | AD21: =M21*P21*S21 -> 18394560
J22: ㅇ | K22: 5급(12호봉기준) | M22: 1387850 | N22: 원 | O22: ⅹ | P22: 5 | Q22: 월 | R22: ⅹ | S22: 1 | T22: 명 | AC22: = | AD22: =M22*P22*S22 -> 6939250
M23: 1347250 | N23: 원 | O23: ⅹ | P23: 7 | Q23: 월 | R23: ⅹ | S23: 1 | T23: 명 | AC23: = | AD23: =M23*P23*S23 -> 9430750
J24: ㅇ | K24: 5급(10호봉기준) | M24: 1302690 | N24: 원 | O24: ⅹ | P24: 10 | Q24: 월 | R24: ⅹ | S24: 1 | T24: 명 | AC24: = | AD24: =M24*P24*S24 -> 13026900
M25: 1259720 | N25: 원 | O25: ⅹ | P25: 2 | Q25: 월 | R25: ⅹ | S25: 1 | T25: 명 | AC25: = | AD25: =M25*P25*S25 -> 2519440
J26: ㅇ | K26: 5급(9호봉기준) | M26: 1259720 | N26: 원 | O26: ⅹ | P26: 7 | Q26: 월 | R26: ⅹ | S26: 1 | T26: 명 | AC26: = | AD26: =M26*P26*S26 -> 8818040
M27: 1212680 | N27: 원 | O27: ⅹ | P27: 5 | Q27: 월 | R27: ⅹ | S27: 1 | T27: 명 | AC27: = | AD27: =M27*P27*S27 -> 6063400
J28: ㅇ | K28: 5급(8호봉기준) | M28: 1212680 | N28: 원 | O28: ⅹ | P28: 5 | Q28: 월 | R28: ⅹ | S28: 1 | T28: 명 | AC28: = | AD28: =M28*P28*S28 -> 6063400
M29: 1163270 | N29: 원 | O29: ⅹ | P29: 7 | Q29: 월 | R29: ⅹ | S29: 1 | T29: 명 | AC29: = | AD29: =M29*P29*S29 -> 8142890
J30: ㅇ | K30: 5급(7호봉기준) | M30: 1163270 | N30: 원 | O30: ⅹ | P30: 8 | Q30: 월 | R30: ⅹ | S30: 1 | T30: 명 | AC30: = | AD30: =M30*P30*S30 -> 9306160
M31: 1111510 | N31: 원 | O31: ⅹ | P31: 16 | Q31: 월 | R31: ⅹ | S31: 1 | T31: 명 | AC31: = | AD31: =M31*P31*S31 -> 17784160
J32: ㅇ | K32: 5급(4호봉기준) | M32: 1009180 | N32: 원 | O32: ⅹ | P32: 1 | Q32: 월 | R32: ⅹ | S32: 1 | T32: 명 | AC32: = | AD32: =M32*P32*S32 -> 1009180
M33: 959620 | N33: 원 | O33: ⅹ | P33: 11 | Q33: 월 | R33: ⅹ | S33: 1 | T33: 명 | AC33: = | AD33: =M33*P33*S33 -> 10555820
J34: ㅇ | K34: 6급(11호봉기준) | M34: 1205710 | N34: 원 | O34: ⅹ | P34: 6 | Q34: 월 | R34: ⅹ | S34: 1 | T34: 명 | AC34: = | AD34: =M34*P34*S34 -> 7234260
M35: 1169030 | N35: 원 | O35: ⅹ | P35: 6 | Q35: 월 | R35: ⅹ | S35: 1 | T35: 명 | AC35: = | AD35: =M35*P35*S35 -> 7014180
J36: ㅇ | K36: 6급(10호봉기준) | M36: 1169030 | N36: 원 | O36: ⅹ | P36: 6 | Q36: 월 | R36: ⅹ | S36: 1 | T36: 명 | AC36: = | AD36: =M36*P36*S36 -> 7014180
M37: 1129250 | N37: 원 | O37: ⅹ | P37: 6 | Q37: 월 | R37: ⅹ | S37: 1 | T37: 명 | AC37: = | AD37: =M37*P37*S37 -> 6775500
J38: ㅇ | K38: 6급(9호봉기준) | M38: 1129250 | N38: 원 | O38: ⅹ | P38: 12 | Q38: 월 | R38: ⅹ | S38: 1 | T38: 명 | AC38: = | AD38: =M38*P38*S38 -> 13551000
J39: ㅇ | K39: 6급(8호봉기준) | M39: 1087760 | N39: 원 | O39: ⅹ | P39: 6 | Q39: 월 | R39: ⅹ | S39: 1 | T39: 명 | AC39: = | AD39: =M39*P39*S39 -> 6526560
M40: 1043920 | N40: 원 | O40: ⅹ | P40: 6 | Q40: 월 | R40: ⅹ | S40: 1 | T40: 명 | AC40: = | AD40: =M40*P40*S40 -> 6263520
J41: ㅇ | K41: 6급(3호봉기준) | M41: 919590 | N41: 원 | O41: ⅹ | P41: 12 | Q41: 월 | R41: ⅹ | S41: 2 | T41: 명 | AC41: = | AD41: =M41*P41*S41 -> 22070160
K42: [19년 보수인상분 : (287,118,130 원- 22,070,160 원) x 1.8% = 4,771,950 원 ] ※ 22,070,160 : 6급3호봉 2명 급여 (1.8%인상이 아닌 최저임금 급여에 의한 조정 )
J43: [제1회추경] | AD43: =SUM(AD44:AD45) -> -3909020
J44: ㅇ | K44: 1급(1호봉기준) | M44: 1655170 | N44: 원 | O44: ⅹ | P44: 11 | Q44: 월 | R44: ⅹ | S44: 1 | T44: 명 | AC44: = | AD44: =M44*P44*S44 -> 18206870
J45: ㅇ | K45: 1급(7호봉기준) | L45: (경정) | M45: 1229930 | N45: 원 | P45: - | Q45: (기정) | S45: 23345820 | U45: 원 | AC45: = | AD45: =M45-S45 -> -22115890
F46: 02 직급보조비 | G46: 30974 | H46: 31080 | I46: =G46-H46 -> -106 | J46: 02 직급보조비 | AD46: =AD47+AD53 -> 30973550
J47: [본예산] | AD47: =SUM(AD48:AD52) -> 31080000
J48: ㅇ | K48: 1급 | M48: 300000 | N48: 원 | O48: ⅹ | P48: 12 | Q48: 월 | R48: ⅹ | S48: 1 | T48: 명 | AC48: = | AD48: =M48*P48*S48 -> 3600000
J49: ㅇ | K49: 3급 | M49: 200000 | N49: 원 | O49: ⅹ | P49: 12 | Q49: 월 | R49: ⅹ | S49: 1 | T49: 명 | AC49: = | AD49: =M49*P49*S49 -> 2400000
J50: ㅇ | K50: 4급 | M50: 150000 | N50: 원 | O50: ⅹ | P50: 12 | Q50: 월 | R50: ⅹ | S50: 3 | T50: 명 | AC50: = | AD50: =M50*P50*S50 -> 5400000
J51: ㅇ | K51: 5급 | M51: 130000 | N51: 원 | O51: ⅹ | P51: 12 | Q51: 월 | R51: ⅹ | S51: 8 | T51: 명 | AC51: = | AD51: =M51*P51*S51 -> 12480000
J52: ㅇ | K52: 6급 | M52: 100000 | N52: 원 | O52: ⅹ | P52: 12 | Q52: 월 | R52: ⅹ | S52: 6 | T52: 명 | AC52: = | AD52: =M52*P52*S52 -> 7200000
J53: [제1회추경] | AD53: =SUM(AD54:AD55) -> -106450 | AE53: 1월20일 관장퇴임으로 인한 급여 일할계산 (1월20일~1월31일 공석)
J54: ㅇ | K54: 1급 | M54: 300000 | N54: 원 | O54: ⅹ | P54: 11 | Q54: 월 | R54: ⅹ | S54: 1 | T54: 명 | AC54: = | AD54: =M54*P54*S54 -> 3300000
J55: ㅇ | K55: 1급 | L55: (경정) | M55: 193550 | N55: 원 | P55: - | Q55: (기정) | S55: 3600000 | U55: 원 | AC55: = | AD55: =M55-S55 -> -3406450
F56: 03 상여금 | G56: 167990 | H56: 170270 | I56: =G56-H56 -> -2280 | J56: 03 상여금 | AD56: =AD57+AD89 -> 167989840
J57: [본예산] | AD57: =SUM(AD58:AD87) -> 170270080
J58: ㅇ | K58: 1급(7호봉기준) | M58: 1949040 | N58: 원 | O58: ⅹ | P58: 700 | Q58: % | R58: ⅹ | S58: 11 | T58: 월 | U58: ⅹ | V58: 1/12 | W58: 월 | X58: ⅹ | Y58: 1 | Z58: 명 | AC58: = | AD58: =ROUNDUP(ROUNDUP((M58*P58%*S58)/12,-1)*Y58,-1) -> 12506340
M59: 1906380 | N59: 원 | O59: ⅹ | P59: 700 | Q59: % | R59: ⅹ | S59: 1 | T59: 월 | U59: ⅹ | V59: 1/12 | W59: 월 | X59: ⅹ | Y59: 1 | Z59: 명 | AC59: = | AD59: =ROUNDUP(ROUNDUP((M59*P59%*S59)/12,-1)*Y59,-1) -> 1112060
J60: ㅇ | K60: 3급(14호봉기준) | M60: 1701130 | N60: 원 | O60: ⅹ | P60: 700 | Q60: % | R60: ⅹ | S60: 12 | T60: 월 | U60: ⅹ | V60: 1/12 | W60: 월 | X60: ⅹ | Y60: 1 | Z60: 명 | AC60: = | AD60: =ROUNDUP(ROUNDUP((M60*P60%*S60)/12,-1)*Y60,-1) -> 11907910
J61: ㅇ | K61: 4급(13호봉기준) | M61: 1549170 | N61: 원 | O61: ⅹ | P61: 700 | Q61: % | R61: ⅹ | S61: 2 | T61: 월 | U61: ⅹ | V61: 1/12 | W61: 월 | X61: ⅹ | Y61: 1 | Z61: 명 | AC61: = | AD61: =ROUNDUP(ROUNDUP((M61*P61%*S61)/12,-1)*Y61,-1) -> 1807370
M62: 1513730 | N62: 원 | O62: ⅹ | P62: 700 | Q62: % | R62: ⅹ | S62: 10 | T62: 월 | U62: ⅹ | V62: 1/12 | W62: 월 | X62: ⅹ | Y62: 1 | Z62: 명 | AC62: = | AD62: =ROUNDUP(ROUNDUP((M62*P62%*S62)/12,-1)*Y62,-1) -> 8830100
J63: ㅇ | K63: 4급(12호봉기준) | M63: 1513730 | N63: 원 | O63: ⅹ | P63: 700 | Q63: % | R63: ⅹ | S63: 5 | T63: 월 | U63: ⅹ | V63: 1/12 | W63: 월 | X63: ⅹ | Y63: 1 | Z63: 명 | AC63: = | AD63: =ROUNDUP(ROUNDUP((M63*P63%*S63)/12,-1)*Y63,-1) -> 4415050
M64: 1476680 | N64: 원 | O64: ⅹ | P64: 700 | Q64: % | R64: ⅹ | S64: 7 | T64: 월 | U64: ⅹ | V64: 1/12 | W64: 월 | X64: ⅹ | Y64: 1 | Z64: 명 | AC64: = | AD64: =ROUNDUP(ROUNDUP((M64*P64%*S64)/12,-1)*Y64,-1) -> 6029780
J65: ㅇ | K65: 4급(11호봉기준) | M65: 1476680 | N65: 원 | O65: ⅹ | P65: 700 | Q65: % | R65: ⅹ | S65: 6 | T65: 월 | U65: ⅹ | V65: 1/12 | W65: 월 | X65: ⅹ | Y65: 1 | Z65: 명 | AC65: = | AD65: =ROUNDUP(ROUNDUP((M65*P65%*S65)/12,-1)*Y65,-1)+750 -> 5169130
M66: 1437710 | N66: 원 | O66: ⅹ | P66: 700 | Q66: % | R66: ⅹ | S66: 6 | T66: 월 | U66: ⅹ | V66: 1/12 | W66: 월 | X66: ⅹ | Y66: 1 | Z66: 명 | AC66: = | AD66: =ROUNDUP(ROUNDUP((M66*P66%*S66)/12,-1)*Y66,-1) -> 5031990
J67: ㅇ | K67: 5급(16호봉기준) | M67: 1532880 | N67: 원 | O67: ⅹ | P67: 700 | Q67: % | R67: ⅹ | S67: 12 | T67: 월 | U67: ⅹ | V67: 1/12 | W67: 월 | X67: ⅹ | Y67: 1 | Z67: 명 | AC67: = | AD67: =ROUNDUP(ROUNDUP((M67*P67%*S67)/12,-1)*Y67,-1) -> 10730160
J68: ㅇ | K68: 5급(12호봉기준) | M68: 1387850 | N68: 원 | O68: ⅹ | P68: 700 | Q68: % | R68: ⅹ | S68: 5 | T68: 월 | U68: ⅹ | V68: 1/12 | W68: 월 | X68: ⅹ | Y68: 1 | Z68: 명 | AC68: = | AD68: =ROUNDUP(ROUNDUP((M68*P68%*S68)/12,-1)*Y68,-1) -> 4047900
M69: 1347250 | N69: 원 | O69: ⅹ | P69: 700 | Q69: % | R69: ⅹ | S69: 7 | T69: 월 | U69: ⅹ | V69: 1/12 | W69: 월 | X69: ⅹ | Y69: 1 | Z69: 명 | AC69: = | AD69: =ROUNDUP(ROUNDUP((M69*P69%*S69)/12,-1)*Y69,-1) -> 5501280
J70: ㅇ | K70: 5급(10호봉기준) | M70: 1302690 | N70: 원 | O70: ⅹ | P70: 700 | Q70: % | R70: ⅹ | S70: 10 | T70: 월 | U70: ⅹ | V70: 1/12 | W70: 월 | X70: ⅹ | Y70: 1 | Z70: 명 | AC70: = | AD70: =ROUNDUP(ROUNDUP((M70*P70%*S70)/12,-1)*Y70,-1) -> 7599030
M71: 1259720 | N71: 원 | O71: ⅹ | P71: 700 | Q71: % | R71: ⅹ | S71: 2 | T71: 월 | U71: ⅹ | V71: 1/12 | W71: 월 | X71: ⅹ | Y71: 1 | Z71: 명 | AC71: = | AD71: =ROUNDUP(ROUNDUP((M71*P71%*S71)/12,-1)*Y71,-1) -> 1469680
J72: ㅇ | K72: 5급(9호봉기준) | M72: 1259720 | N72: 원 | O72: ⅹ | P72: 700 | Q72: % | R72: ⅹ | S72: 7 | T72: 월 | U72: ⅹ | V72: 1/12 | W72: 월 | X72: ⅹ | Y72: 1 | Z72: 명 | AC72: = | AD72: =ROUNDUP(ROUNDUP((M72*P72%*S72)/12,-1)*Y72,-1) -> 5143860
M73: 1212680 | N73: 원 | O73: ⅹ | P73: 700 | Q73: % | R73: ⅹ | S73: 5 | T73: 월 | U73: ⅹ | V73: 1/12 | W73: 월 | X73: ⅹ | Y73: 1 | Z73: 명 | AC73: = | AD73: =ROUNDUP(ROUNDUP((M73*P73%*S73)/12,-1)*Y73,-1) -> 3536990
J74: ㅇ | K74: 5급(8호봉기준) | M74: 1212680 | N74: 원 | O74: ⅹ | P74: 700 | Q74: % | R74: ⅹ | S74: 5 | T74: 월 | U74: ⅹ | V74: 1/12 | W74: 월 | X74: ⅹ | Y74: 1 | Z74: 명 | AC74: = | AD74: =ROUNDUP(ROUNDUP((M74*P74%*S74)/12,-1)*Y74,-1) -> 3536990
M75: 1163270 | N75: 원 | O75: ⅹ | P75: 700 | Q75: % | R75: ⅹ | S75: 7 | T75: 월 | U75: ⅹ | V75: 1/12 | W75: 월 | X75: ⅹ | Y75: 1 | Z75: 명 | AC75: = | AD75: =ROUNDUP(ROUNDUP((M75*P75%*S75)/12,-1)*Y75,-1) -> 4750020
J76: ㅇ | K76: 5급(7호봉기준) | M76: 1163270 | N76: 원 | O76: ⅹ | P76: 700 | Q76: % | R76: ⅹ | S76: 8 | T76: 월 | U76: ⅹ | V76: 1/12 | W76: 월 | X76: ⅹ | Y76: 1 | Z76: 명 | AC76: = | AD76: =ROUNDUP(ROUNDUP((M76*P76%*S76)/12,-1)*Y76,-1) -> 5428600
M77: 1111510 | N77: 원 | O77: ⅹ | P77: 700 | Q77: % | R77: ⅹ | S77: 16 | T77: 월 | U77: ⅹ | V77: 1/12 | W77: 월 | X77: ⅹ | Y77: 1 | Z77: 명 | AC77: = | AD77: =ROUNDUP(ROUNDUP((M77*P77%*S77)/12,-1)*Y77,-1) -> 10374100
J78: ㅇ | K78: 5급(4호봉기준) | M78: 1009180 | N78: 원 | O78: ⅹ | P78: 700 | Q78: % | R78: ⅹ | S78: 1 | T78: 월 | U78: ⅹ | V78: 1/12 | W78: 월 | X78: ⅹ | Y78: 1 | Z78: 명 | AC78: = | AD78: =ROUNDUP(ROUNDUP((M78*P78%*S78)/12,-1)*Y78,-1) -> 588690
M79: 959620 | N79: 원 | O79: ⅹ | P79: 700 | Q79: % | R79: ⅹ | S79: 11 | T79: 월 | U79: ⅹ | V79: 1/12 | W79: 월 | X79: ⅹ | Y79: 1 | Z79: 명 | AC79: = | AD79: =ROUNDUP(ROUNDUP((M79*P79%*S79)/12,-1)*Y79,-1) -> 6157570
J80: ㅇ | K80: 6급(11호봉기준) | M80: 1205710 | N80: 원 | O80: ⅹ | P80: 700 | Q80: % | R80: ⅹ | S80: 6 | T80: 월 | U80: ⅹ | V80: 1/12 | W80: 월 | X80: ⅹ | Y80: 1 | Z80: 명 | AC80: = | AD80: =ROUNDUP(ROUNDUP((M80*P80%*S80)/12,-1)*Y80,-1) -> 4219990
M81: 1169030 | N81: 원 | O81: ⅹ | P81: 700 | Q81: % | R81: ⅹ | S81: 6 | T81: 월 | U81: ⅹ | V81: 1/12 | W81: 월 | X81: ⅹ | Y81: 1 | Z81: 명 | AC81: = | AD81: =ROUNDUP(ROUNDUP((M81*P81%*S81)/12,-1)*Y81,-1) -> 4091610
J82: ㅇ | K82: 6급(10호봉기준) | M82: 1169030 | N82: 원 | O82: ⅹ | P82: 700 | Q82: % | R82: ⅹ | S82: 6 | T82: 월 | U82: ⅹ | V82: 1/12 | W82: 월 | X82: ⅹ | Y82: 1 | Z82: 명 | AC82: = | AD82: =ROUNDUP(ROUNDUP((M82*P82%*S82)/12,-1)*Y82,-1) -> 4091610
M83: 1129250 | N83: 원 | O83: ⅹ | P83: 700 | Q83: % | R83: ⅹ | S83: 6 | T83: 월 | U83: ⅹ | V83: 1/12 | W83: 월 | X83: ⅹ | Y83: 1 | Z83: 명 | AC83: = | AD83: =ROUNDUP(ROUNDUP((M83*P83%*S83)/12,-1)*Y83,-1) -> 3952380
J84: ㅇ | K84: 6급(9호봉기준) | M84: 1129250 | N84: 원 | O84: ⅹ | P84: 700 | Q84: % | R84: ⅹ | S84: 12 | T84: 월 | U84: ⅹ | V84: 1/12 | W84: 월 | X84: ⅹ | Y84: 1 | Z84: 명 | AC84: = | AD84: =ROUNDUP(ROUNDUP((M84*P84%*S84)/12,-1)*Y84,-1) -> 7904750
J85: ㅇ | K85: 6급(8호봉기준) | M85: 1087760 | N85: 원 | O85: ⅹ | P85: 700 | Q85: % | R85: ⅹ | S85: 6 | T85: 월 | U85: ⅹ | V85: 1/12 | W85: 월 | X85: ⅹ | Y85: 1 | Z85: 명 | AC85: = | AD85: =ROUNDUP(ROUNDUP((M85*P85%*S85)/12,-1)*Y85,-1) -> 3807160
M86: 1043920 | N86: 원 | O86: ⅹ | P86: 700 | Q86: % | R86: ⅹ | S86: 6 | T86: 월 | U86: ⅹ | V86: 1/12 | W86: 월 | X86: ⅹ | Y86: 1 | Z86: 명 | AC86: = | AD86: =ROUNDUP(ROUNDUP((M86*P86%*S86)/12,-1)*Y86,-1) -> 3653720
J87: ㅇ | K87: 6급(3호봉기준) | M87: 919590 | N87: 원 | O87: ⅹ | P87: 700 | Q87: % | R87: ⅹ | S87: 12 | T87: 월 | U87: ⅹ | V87: 1/12 | W87: 월 | X87: ⅹ | Y87: 2 | Z87: 명 | AC87: = | AD87: =ROUNDUP(ROUNDUP((M87*P87%*S87)/12,-1)*Y87,-1) -> 12874260
K88: [19년 보수인상분 : (167,486,510 원- 12,874,320 원) x 1.8% = 2,783,550 원 ] ※ 12,874,320 : 6급3호봉 2명 급여 (1.8%인상이 아닌 최저임금 급여에 의한 조정 )
J89: [제1회추경] | AD89: =SUM(AD90:AD91) -> -2280240
J90: ㅇ | K90: 1급(1호봉기준) | M90: 965520 | N90: 원 | O90: ⅹ | P90: 11 | Q90: 월 | R90: ⅹ | S90: 1 | T90: 명 | AC90: = | AD90: =M90*P90*S90 -> 10620720
J91: ㅇ | K91: 1급(7호봉기준) | L91: (경정) | M91: 717440 | N91: 원 | P91: - | Q91: (기정) | S91: 13618400 | U91: 원 | AC91: = | AD91: =M91-S91 -> -12900960
F92: 04 직책급업무추진비 | G92: 6493 | H92: 6600 | I92: =G92-H92 -> -107 | J92: 04 직책급업무추진비 | AD92: =AD93+AD97 -> 6493550
J93: [본예산] | AD93: =SUM(AD94:AD96) -> 6600000
J94: ㅇ | K94: 1급 | M94: 300000 | N94: 원 | O94: ⅹ | P94: 12 | Q94: 월 | R94: ⅹ | S94: 1 | T94: 명 | AC94: = | AD94: =M94*P94*S94 -> 3600000
J95: ㅇ | K95: 3급 | M95: 100000 | N95: 원 | O95: ⅹ | P95: 12 | Q95: 월 | R95: ⅹ | S95: 1 | T95: 명 | AC95: = | AD95: =M95*P95*S95 -> 1200000
J96: ㅇ | K96: 4급 | M96: 50000 | N96: 원 | O96: ⅹ | P96: 12 | Q96: 월 | R96: ⅹ | S96: 3 | T96: 명 | AC96: = | AD96: =M96*P96*S96 -> 1800000
J97: [제1회추경] | AD97: =AD98 -> -106450 | AE97: 1월20일 관장퇴임으로 인한 급여 일할계산 (1월20일~1월31일 공석)
J98: ㅇ | K98: 1급 | L98: (경정) | M98: 3493550 | N98: 원 | P98: - | Q98: (기정) | S98: 3600000 | U98: 원 | AC98: = | AD98: =M98-S98 -> -106450
F99: 05 정액급식비 | G99: 27317 | H99: 27360 | I99: =G99-H99 -> -43 | J99: 05 정액급식비 | AD99: =AD100+AD102 -> 27317420
J100: [본예산] | AD100: =AD101 -> 27360000
...
